BEGIN:VCALENDAR
VERSION:2.0
PRODID:-//Congreso recuérdalo a otros - ECPv6.15.14//NONSGML v1.0//EN
CALSCALE:GREGORIAN
METHOD:PUBLISH
X-WR-CALNAME:Congreso recuérdalo a otros
X-ORIGINAL-URL:https://centenariodel27.es
X-WR-CALDESC:Eventos para Congreso recuérdalo a otros
REFRESH-INTERVAL;VALUE=DURATION:PT1H
X-Robots-Tag:noindex
X-PUBLISHED-TTL:PT1H
BEGIN:VTIMEZONE
TZID:Europe/Paris
BEGIN:DAYLIGHT
TZOFFSETFROM:+0100
TZOFFSETTO:+0200
TZNAME:CEST
DTSTART:20240331T010000
END:DAYLIGHT
BEGIN:STANDARD
TZOFFSETFROM:+0200
TZOFFSETTO:+0100
TZNAME:CET
DTSTART:20241027T010000
END:STANDARD
BEGIN:DAYLIGHT
TZOFFSETFROM:+0100
TZOFFSETTO:+0200
TZNAME:CEST
DTSTART:20250330T010000
END:DAYLIGHT
BEGIN:STANDARD
TZOFFSETFROM:+0200
TZOFFSETTO:+0100
TZNAME:CET
DTSTART:20251026T010000
END:STANDARD
BEGIN:DAYLIGHT
TZOFFSETFROM:+0100
TZOFFSETTO:+0200
TZNAME:CEST
DTSTART:20260329T010000
END:DAYLIGHT
BEGIN:STANDARD
TZOFFSETFROM:+0200
TZOFFSETTO:+0100
TZNAME:CET
DTSTART:20261025T010000
END:STANDARD
END:VTIMEZONE
BEGIN:VEVENT
DTSTART;TZID=Europe/Paris:20251001T180000
DTEND;TZID=Europe/Paris:20251001T193000
DTSTAMP:20260420T140358
CREATED:20251001T092143Z
LAST-MODIFIED:20251001T114650Z
UID:1181-1759341600-1759347000@centenariodel27.es
SUMMARY:Conferencia 'Asimilación del paisaje lingüístico en la generación del 27'
DESCRIPTION:Carlos Peinado Elliot\, profesor del departamento de Literatura Española e Hispanoamericana de la Universidad de Sevilla\, impartirá la conferencia ‘Asimilación del paisaje lingüístico en la generación del 27’ dentro del ciclo dirigido por Lola Pons Rodríguez “El paisaje lingüístico andaluz” organizado por el Centro Andaluz de las Letras. La cita es en CICUS (C/Madre de Dios\, 1)
URL:https://centenariodel27.es/event/conferencia-asimilacion-del-paisaje-linguistico-en-la-generacion-del-27/
LOCATION:CICUS – Centro de Iniciativas Culturales de la Universidad de Sevilla\, C/ Madre de Dios\, 1\, Sevilla\, Sevilla\, 41004\, Spain
CATEGORIES:Lecturas y difusión
ATTACH;FMTTYPE=image/jpeg:https://centenariodel27.es/wp-content/uploads/2025/10/CAL_paisajes_cicus_1octubre.jpg
END:VEVENT
END:VCALENDAR